BEGIN:VCALENDAR
VERSION:2.0
PRODID:-//Tukios.com/
BEGIN:VEVENT
UID:096db39d-4e83-4870-9919-0b7144ff4ed7@www.laycock-hobbs.com
DTSTAMP:20260420T212415Z
DTSTART:20260422T203000Z
DTEND:20260422T213000Z
SUMMARY:Funeral Service
DESCRIPTION:
URL:https://www.laycock-hobbs.com/obituaries/sara-keaton
LOCATION: 521 N. Jackson Street PO Box 428 Athens TN 37303
GEO:35.4483867;-84.5964924
END:VEVENT
END:VCALENDAR