BEGIN:VCALENDAR
VERSION:2.0
PRODID:-//Tukios.com/
BEGIN:VEVENT
UID:6ba5b9de-7d84-4cb2-8ddb-d2bbbfd58541@www.laycock-hobbs.com
DTSTAMP:20260420T212116Z
DTSTART:20260422T203000Z
DTEND:20260422T213000Z
SUMMARY:Visitation
DESCRIPTION:
URL:https://www.laycock-hobbs.com/obituaries/sara-keaton
LOCATION: 521 N. Jackson Street PO Box 428 Athens TN 37303
GEO:35.4483867;-84.5964924
END:VEVENT
END:VCALENDAR