BEGIN:VCALENDAR
VERSION:2.0
PRODID:-//Tukios.com/
BEGIN:VEVENT
UID:9bce8491-70ac-47a9-8b9c-108b0ec5fad8@www.laycock-hobbs.com
DTSTAMP:20260420T193105Z
DTSTART:20260422T180000Z
DTEND:20260422T190000Z
SUMMARY:Graveside Service
DESCRIPTION:
URL:https://www.laycock-hobbs.com/obituaries/patti-archer
LOCATION: 1727-1739 Co Rd 560  Athens TN 37303
GEO:35.4087439;-84.5602514
END:VEVENT
END:VCALENDAR